BEGIN:VCALENDAR
VERSION:2.0
PRODID:-//Squarespace Inc/Squarespace 6//v6//EN
BEGIN:VEVENT
UID:59522a41e110eb8ad5ae5ace@squarespace.com
DTSTAMP:20180515T045810Z
DTSTART:20180430T063000Z
DTEND:20180702T063000Z
SUMMARY:Men's Tennisfit
END:VEVENT
END:VCALENDAR
