BEGIN:VCALENDAR
VERSION:2.0
PRODID:-//Squarespace Inc/Squarespace 6//v6//EN
BEGIN:VEVENT
UID:5950dc27e4fcb533d1d526c8@squarespace.com
DTSTAMP:20180515T051107Z
DTSTART:20180430T040000Z
DTEND:20180702T050000Z
SUMMARY:After School Kids Coaching
END:VEVENT
END:VCALENDAR
