BEGIN:VCALENDAR
VERSION:2.0
PRODID:-//Squarespace Inc/Squarespace 6//v6//EN
BEGIN:VEVENT
UID:596073fbb6ac50fc8843117b@squarespace.com
DTSTAMP:20180222T221922Z
DTSTART:20180415T180000Z
DTEND:20180423T070000Z
SUMMARY:School Holidays
END:VEVENT
END:VCALENDAR
