BEGIN:VCALENDAR
VERSION:2.0
PRODID:-//Squarespace Inc/Squarespace 6//v6//EN
BEGIN:VEVENT
UID:596073813e00be4fb1d4d464@squarespace.com
DTSTAMP:20170708T055419Z
DTSTART:20170723T043000Z
DTEND:20170723T053000Z
SUMMARY:AGM 2017
END:VEVENT
END:VCALENDAR
