BEGIN:VCALENDAR
VERSION:2.0
PRODID:-//Squarespace Inc/Squarespace 6//v6//EN
BEGIN:VEVENT
UID:59522e31b8a79bda419669bb@squarespace.com
DTSTAMP:20180515T045905Z
DTSTART:20180502T040000Z
DTEND:20180704T050000Z
SUMMARY:After School Kids Coaching
END:VEVENT
END:VCALENDAR
