BEGIN:VCALENDAR
VERSION:2.0
PRODID:-//Squarespace Inc/Squarespace 6//v6//EN
BEGIN:VEVENT
UID:58f012d79f7456cb9bf4984d@squarespace.com
DTSTAMP:20180515T045727Z
DTSTART:20180502T070000Z
DTEND:20180704T070000Z
SUMMARY:Club Night Wednesdays 7pm
END:VEVENT
END:VCALENDAR
