BEGIN:VCALENDAR
VERSION:2.0
PRODID:-//Squarespace Inc/Squarespace 6//v6//EN
BEGIN:VEVENT
UID:5c0732ee562fa7f679e32e52@squarespace.com
DTSTAMP:20181205T045345Z
DTSTART:20181216T200000Z
DTEND:20181220T230000Z
SUMMARY:School Holiday Programme
END:VEVENT
END:VCALENDAR
