BEGIN:VCALENDAR
VERSION:2.0
PRODID:-//Squarespace Inc/Squarespace 6//v6//EN
BEGIN:VEVENT
UID:5c072e4170a6ad439bcbe9f2@squarespace.com
DTSTAMP:20181205T045328Z
DTSTART:20181209T200000Z
DTEND:20181213T230000Z
SUMMARY:School Holiday Programme
END:VEVENT
END:VCALENDAR
