BEGIN:VCALENDAR
VERSION:2.0
PRODID:-//Squarespace Inc/Squarespace 6//v6//EN
BEGIN:VEVENT
UID:5b400685575d1f114151b060@squarespace.com
DTSTAMP:20180707T001858Z
DTSTART:20180729T043000Z
DTEND:20180729T053000Z
SUMMARY:AGM Meeting 29th July 4:30pm 
END:VEVENT
END:VCALENDAR
