BEGIN:VCALENDAR
VERSION:2.0
PRODID:-//Squarespace Inc/Squarespace 6//v6//EN
BEGIN:VEVENT
UID:5b760ca7f950b79b2026505b@squarespace.com
DTSTAMP:20180816T234741Z
DTSTART:20180817T000000Z
DTEND:20180817T010000Z
SUMMARY:Subscriptions due by 31 August
END:VEVENT
END:VCALENDAR
